BEGIN:VCALENDAR
VERSION:2.0
PRODID:-//Squarespace Inc/Squarespace 6//v6//EN
BEGIN:VEVENT
UID:5e7422ccd6117445c900ddfc@squarespace.com
DTSTAMP:20200320T020210Z
DTSTART:20190509T140000Z
DTEND:20190510T220000Z
SUMMARY:Southern Oregon LGBTQ+ Health and Wellness Summit
GEO:42.326988;-122.871391
LOCATION:Jackson County Health and Human Services\, 295 East Main Street\, 
 Medford\, OR\, 97501\, United States
END:VEVENT
END:VCALENDAR
