BEGIN:VCALENDAR
VERSION:2.0
PRODID:-//Squarespace Inc/Squarespace 6//v6//EN
BEGIN:VEVENT
UID:5e7417fecf33346d61aa3868@squarespace.com
DTSTAMP:20200320T012555Z
DTSTART:20180902T160000Z
DTEND:20180902T220000Z
SUMMARY:17th Annual San Francisco Zine Fest
GEO:37.767423;-122.470378
LOCATION:County Fair Building\, 1199 9th Avenue\, San Francisco\, CA 94122-
 2370\, United States
END:VEVENT
END:VCALENDAR
