BEGIN:VCALENDAR
VERSION:2.0
PRODID:-//Squarespace Inc/Squarespace 6//v6//EN
BEGIN:VEVENT
UID:5e74446e7838ec742b061ed1@squarespace.com
DTSTAMP:20200320T042257Z
DTSTART:20191019T143000Z
DTEND:20191019T213000Z
SUMMARY:Our Town SF Non-Profit EXPO
GEO:37.760284;-122.436417
LOCATION:Eureka Valley Rec Ctr\, 100 Collingwood Street\, San Francisco\, C
 A\, 94114\, United States
END:VEVENT
END:VCALENDAR
