BEGIN:VCALENDAR
VERSION:2.0
PRODID:-//Squarespace Inc/Squarespace 6//v6//EN
BEGIN:VEVENT
UID:5e7421951ae5bd17b2a5975a@squarespace.com
DTSTAMP:20200320T015433Z
DTSTART:20190505T160000Z
DTEND:20190505T220000Z
SUMMARY:Mission Art and Comic Expo
GEO:37.75097;-122.418661
LOCATION:Mission Cultural Center for Latino Arts\, 2868 Mission Street\, Sa
 n Francisco\, CA\, 94110\, United States
END:VEVENT
END:VCALENDAR
