BEGIN:VCALENDAR
VERSION:2.0
PRODID:-//Squarespace Inc/Squarespace 6//v6//EN
BEGIN:VEVENT
UID:5e7417fecf33346d61aa3866@squarespace.com
DTSTAMP:20200320T014145Z
DTSTART:20190217T160000Z
DTEND:20190217T220000Z
SUMMARY:Dear Diary Zine Fest 2019
GEO:37.835004;-122.264128
LOCATION:Omni Commons\, 4799 Shattuck Avenue\, Oakland\, CA\, 94609\, Unite
 d States
END:VEVENT
END:VCALENDAR
