BEGIN:VCALENDAR
VERSION:2.0
PRODID:-//Squarespace Inc/Squarespace 6//v6//EN
BEGIN:VEVENT
UID:5e7417fecf33346d61aa3862@squarespace.com
DTSTAMP:20200320T013418Z
DTSTART:20181110T160000Z
DTEND:20181110T230000Z
SUMMARY:Euzine Comics &amp\; Zine Fest 2018
GEO:44.044106;-123.106286
LOCATION:Lane Events Center\, 796 West 13th Avenue\, Eugene\, OR\, 97402\, 
 United States
END:VEVENT
END:VCALENDAR
