BEGIN:VCALENDAR
VERSION:2.0
PRODID:-//Squarespace Inc/Squarespace 6//v6//EN
BEGIN:VEVENT
UID:5e74462db149a10a9c535237@squarespace.com
DTSTAMP:20200320T043003Z
DTSTART:20191207T153000Z
DTEND:20191207T223000Z
SUMMARY:East Bay Alternative Book And Zine Fest 
GEO:37.835004;-122.264128
LOCATION:Omni Commons\, 4799 Shattuck Avenue\, Oakland\, CA\, 94609\, Unite
 d States
END:VEVENT
END:VCALENDAR
