BEGIN:VCALENDAR
VERSION:2.0
PRODID:-//Squarespace Inc/Squarespace 6//v6//EN
BEGIN:VEVENT
UID:5e741faa6a180315da620a4e@squarespace.com
DTSTAMP:20200320T015057Z
DTSTART:20190411T140000Z
DTEND:20190415T020000Z
SUMMARY:CancerCon 2019
GEO:39.743405;-104.99356
LOCATION:Hyatt Regency\, 650 15th Street\, Denver\, CO\, 80202\, United Sta
 tes
END:VEVENT
END:VCALENDAR
