BEGIN:VCALENDAR
VERSION:2.0
PRODID:-//Squarespace Inc/Squarespace 6//v6//EN
BEGIN:VEVENT
UID:5e744706cf33346d61b0c18f@squarespace.com
DTSTAMP:20200320T043302Z
DTSTART:20200112T150000Z
DTEND:20200112T230000Z
SUMMARY:Bay Area Queer Zine Fest 2020
GEO:37.816077;-122.265478
LOCATION:Humanist Hall\, 390 27th Street\, Oakland\, CA\, 94612\, United St
 ates
END:VEVENT
END:VCALENDAR
