BEGIN:VCALENDAR
VERSION:2.0
PRODID:-//Squarespace Inc/Squarespace 6//v6//EN
BEGIN:VEVENT
UID:5e7417fecf33346d61aa3864@squarespace.com
DTSTAMP:20200320T012947Z
DTSTART:20180909T160000Z
DTEND:20180909T220000Z
SUMMARY:Bay Area Queer Zine Fest 2018
GEO:37.816077;-122.265478
LOCATION:Humanist Hall\, 390 27th Street\, Oakland\, CA\, 94612\, United St
 ates
END:VEVENT
END:VCALENDAR
